BEGIN:VCALENDAR
VERSION:2.0
PRODID:-//Huron Sports Academy - ECPv5.16.4//NONSGML v1.0//EN
CALSCALE:GREGORIAN
METHOD:PUBLISH
X-WR-CALNAME:Huron Sports Academy
X-ORIGINAL-URL:https://huronsa.org
X-WR-CALDESC:Events for Huron Sports Academy
BEGIN:VTIMEZONE
TZID:America/New_York
BEGIN:DAYLIGHT
TZOFFSETFROM:-0500
TZOFFSETTO:-0400
TZNAME:EDT
DTSTART:20260308T070000
END:DAYLIGHT
BEGIN:STANDARD
TZOFFSETFROM:-0400
TZOFFSETTO:-0500
TZNAME:EST
DTSTART:20261101T060000
END:STANDARD
END:VTIMEZONE
BEGIN:VEVENT
DTSTART;TZID=America/New_York:20260709T090000
DTEND;TZID=America/New_York:20260709T120000
DTSTAMP:20260425T101302
CREATED:20260420T201206Z
LAST-MODIFIED:20260420T201206Z
UID:14141-1783587600-1783598400@huronsa.org
SUMMARY:Track and Field Camp
DESCRIPTION:Participants will learn the fundamentals of track and field events including sprinting\, throwing\,  relays\, long jump\, and more—while improving teamwork\, endurance\, and sportsmanship. Whether your child is a beginner or already loves to compete\, this camp is perfect for all skill levels. \nSave your spot! huronsa.org/summer
URL:https://huronsa.org/event/track-and-field-camp/2026-07-09/
LOCATION:Huron Sports Academy\, 712 Cleveland Road E.\, Huron\, OH\, 44839
CATEGORIES:Calendar Only
END:VEVENT
END:VCALENDAR