BEGIN:VCALENDAR
VERSION:2.0
PRODID:-//Huron Sports Academy - ECPv5.16.4//NONSGML v1.0//EN
CALSCALE:GREGORIAN
METHOD:PUBLISH
X-WR-CALNAME:Huron Sports Academy
X-ORIGINAL-URL:https://huronsa.org
X-WR-CALDESC:Events for Huron Sports Academy
BEGIN:VTIMEZONE
TZID:America/New_York
BEGIN:DAYLIGHT
TZOFFSETFROM:-0500
TZOFFSETTO:-0400
TZNAME:EDT
DTSTART:20260308T070000
END:DAYLIGHT
BEGIN:STANDARD
TZOFFSETFROM:-0400
TZOFFSETTO:-0500
TZNAME:EST
DTSTART:20261101T060000
END:STANDARD
END:VTIMEZONE
BEGIN:VEVENT
DTSTART;TZID=America/New_York:20260716T090000
DTEND;TZID=America/New_York:20260716T120000
DTSTAMP:20260423T042258
CREATED:20260420T201429Z
LAST-MODIFIED:20260420T201429Z
UID:14146-1784192400-1784203200@huronsa.org
SUMMARY:Baseball Camp at Faben Park
DESCRIPTION:Step up to the plate at our free baseball camp\, open to students of all skill levels! Campers swing big\, throw far\, and sharpen their skills while having fun and building confidence. Practice teamwork & make new friends while running batting\, pitching & fielding drills. Space is limited and first come\, first served. \nSave your spot! huronsa.org/summer
URL:https://huronsa.org/event/baseball-camp-at-faben-park/2026-07-16/
LOCATION:Faben Park\, 1 Fabens Way\, Huron\, OH\, 44839\, United States
CATEGORIES:Calendar Only
END:VEVENT
END:VCALENDAR